BEGIN:VCALENDAR
VERSION:2.0
PRODID:-//Réseau des Émetteurs Français 69 - ECPv6.15.18//NONSGML v1.0//EN
CALSCALE:GREGORIAN
METHOD:PUBLISH
X-ORIGINAL-URL:https://f8kly.fr
X-WR-CALDESC:Évènements pour Réseau des Émetteurs Français 69
REFRESH-INTERVAL;VALUE=DURATION:PT1H
X-Robots-Tag:noindex
X-PUBLISHED-TTL:PT1H
BEGIN:VTIMEZONE
TZID:Europe/Paris
BEGIN:DAYLIGHT
TZOFFSETFROM:+0100
TZOFFSETTO:+0200
TZNAME:CEST
DTSTART:20250330T010000
END:DAYLIGHT
BEGIN:STANDARD
TZOFFSETFROM:+0200
TZOFFSETTO:+0100
TZNAME:CET
DTSTART:20251026T010000
END:STANDARD
BEGIN:DAYLIGHT
TZOFFSETFROM:+0100
TZOFFSETTO:+0200
TZNAME:CEST
DTSTART:20260329T010000
END:DAYLIGHT
BEGIN:STANDARD
TZOFFSETFROM:+0200
TZOFFSETTO:+0100
TZNAME:CET
DTSTART:20261025T010000
END:STANDARD
BEGIN:DAYLIGHT
TZOFFSETFROM:+0100
TZOFFSETTO:+0200
TZNAME:CEST
DTSTART:20270328T010000
END:DAYLIGHT
BEGIN:STANDARD
TZOFFSETFROM:+0200
TZOFFSETTO:+0100
TZNAME:CET
DTSTART:20271031T010000
END:STANDARD
END:VTIMEZONE
BEGIN:VEVENT
DTSTART;TZID=Europe/Paris:20261202T100000
DTEND;TZID=Europe/Paris:20261202T140000
DTSTAMP:20260424T091455
CREATED:20260210T201309Z
LAST-MODIFIED:20260210T203258Z
UID:4100-1796205600-1796220000@f8kly.fr
SUMMARY:Permanence
DESCRIPTION:Informations détaillées sur le canal Radio-club F8KLY de l’application Signal.
URL:https://f8kly.fr/event/permanence-319/
LOCATION:Radioclub\, 21Bis Rue Roger Radisson\, Lyon\, 69005\, France
END:VEVENT
BEGIN:VEVENT
DTSTART;TZID=Europe/Paris:20261207T100000
DTEND;TZID=Europe/Paris:20261207T140000
DTSTAMP:20260424T091455
CREATED:20260210T203809Z
LAST-MODIFIED:20260210T203809Z
UID:4294-1796637600-1796652000@f8kly.fr
SUMMARY:Permanence DATV
DESCRIPTION:Informations détaillées sur le canal Radio-club F8KLY de l’application Signal.
URL:https://f8kly.fr/event/permanence-datv-95/
LOCATION:Radioclub\, 21Bis Rue Roger Radisson\, Lyon\, 69005\, France
CATEGORIES:DATV
END:VEVENT
BEGIN:VEVENT
DTSTART;TZID=Europe/Paris:20261209T100000
DTEND;TZID=Europe/Paris:20261209T140000
DTSTAMP:20260424T091455
CREATED:20260210T201309Z
LAST-MODIFIED:20260210T203258Z
UID:4101-1796810400-1796824800@f8kly.fr
SUMMARY:Permanence
DESCRIPTION:Informations détaillées sur le canal Radio-club F8KLY de l’application Signal.
URL:https://f8kly.fr/event/permanence-320/
LOCATION:Radioclub\, 21Bis Rue Roger Radisson\, Lyon\, 69005\, France
END:VEVENT
BEGIN:VEVENT
DTSTART;TZID=Europe/Paris:20261214T100000
DTEND;TZID=Europe/Paris:20261214T140000
DTSTAMP:20260424T091455
CREATED:20260210T203809Z
LAST-MODIFIED:20260210T203809Z
UID:4295-1797242400-1797256800@f8kly.fr
SUMMARY:Permanence DATV
DESCRIPTION:Informations détaillées sur le canal Radio-club F8KLY de l’application Signal.
URL:https://f8kly.fr/event/permanence-datv-96/
LOCATION:Radioclub\, 21Bis Rue Roger Radisson\, Lyon\, 69005\, France
CATEGORIES:DATV
END:VEVENT
BEGIN:VEVENT
DTSTART;TZID=Europe/Paris:20261216T100000
DTEND;TZID=Europe/Paris:20261216T140000
DTSTAMP:20260424T091455
CREATED:20260210T201309Z
LAST-MODIFIED:20260210T203258Z
UID:4102-1797415200-1797429600@f8kly.fr
SUMMARY:Permanence
DESCRIPTION:Informations détaillées sur le canal Radio-club F8KLY de l’application Signal.
URL:https://f8kly.fr/event/permanence-321/
LOCATION:Radioclub\, 21Bis Rue Roger Radisson\, Lyon\, 69005\, France
END:VEVENT
BEGIN:VEVENT
DTSTART;TZID=Europe/Paris:20261221T100000
DTEND;TZID=Europe/Paris:20261221T140000
DTSTAMP:20260424T091455
CREATED:20260210T203809Z
LAST-MODIFIED:20260210T203809Z
UID:4296-1797847200-1797861600@f8kly.fr
SUMMARY:Permanence DATV
DESCRIPTION:Informations détaillées sur le canal Radio-club F8KLY de l’application Signal.
URL:https://f8kly.fr/event/permanence-datv-97/
LOCATION:Radioclub\, 21Bis Rue Roger Radisson\, Lyon\, 69005\, France
CATEGORIES:DATV
END:VEVENT
BEGIN:VEVENT
DTSTART;TZID=Europe/Paris:20261223T100000
DTEND;TZID=Europe/Paris:20261223T140000
DTSTAMP:20260424T091455
CREATED:20260210T201324Z
LAST-MODIFIED:20260210T203344Z
UID:4103-1798020000-1798034400@f8kly.fr
SUMMARY:Permanence
DESCRIPTION:Informations détaillées sur le canal Radio-club F8KLY de l’application Signal.
URL:https://f8kly.fr/event/permanence-322/
LOCATION:Radioclub\, 21Bis Rue Roger Radisson\, Lyon\, 69005\, France
END:VEVENT
BEGIN:VEVENT
DTSTART;TZID=Europe/Paris:20261228T100000
DTEND;TZID=Europe/Paris:20261228T140000
DTSTAMP:20260424T091455
CREATED:20260210T204006Z
LAST-MODIFIED:20260210T204006Z
UID:4297-1798452000-1798466400@f8kly.fr
SUMMARY:Permanence DATV
DESCRIPTION:Informations détaillées sur le canal Radio-club F8KLY de l’application Signal.
URL:https://f8kly.fr/event/permanence-datv-98/
LOCATION:Radioclub\, 21Bis Rue Roger Radisson\, Lyon\, 69005\, France
CATEGORIES:DATV
END:VEVENT
BEGIN:VEVENT
DTSTART;TZID=Europe/Paris:20261230T100000
DTEND;TZID=Europe/Paris:20261230T140000
DTSTAMP:20260424T091455
CREATED:20260210T201324Z
LAST-MODIFIED:20260210T203344Z
UID:4104-1798624800-1798639200@f8kly.fr
SUMMARY:Permanence
DESCRIPTION:Informations détaillées sur le canal Radio-club F8KLY de l’application Signal.
URL:https://f8kly.fr/event/permanence-323/
LOCATION:Radioclub\, 21Bis Rue Roger Radisson\, Lyon\, 69005\, France
END:VEVENT
END:VCALENDAR