BEGIN:VCALENDAR
VERSION:2.0
PRODID:-//Réseau des Émetteurs Français 69 - ECPv6.15.18//NONSGML v1.0//EN
CALSCALE:GREGORIAN
METHOD:PUBLISH
X-WR-CALNAME:Réseau des Émetteurs Français 69
X-ORIGINAL-URL:https://f8kly.fr
X-WR-CALDESC:Évènements pour Réseau des Émetteurs Français 69
REFRESH-INTERVAL;VALUE=DURATION:PT1H
X-Robots-Tag:noindex
X-PUBLISHED-TTL:PT1H
BEGIN:VTIMEZONE
TZID:Europe/Paris
BEGIN:DAYLIGHT
TZOFFSETFROM:+0100
TZOFFSETTO:+0200
TZNAME:CEST
DTSTART:20250330T010000
END:DAYLIGHT
BEGIN:STANDARD
TZOFFSETFROM:+0200
TZOFFSETTO:+0100
TZNAME:CET
DTSTART:20251026T010000
END:STANDARD
BEGIN:DAYLIGHT
TZOFFSETFROM:+0100
TZOFFSETTO:+0200
TZNAME:CEST
DTSTART:20260329T010000
END:DAYLIGHT
BEGIN:STANDARD
TZOFFSETFROM:+0200
TZOFFSETTO:+0100
TZNAME:CET
DTSTART:20261025T010000
END:STANDARD
BEGIN:DAYLIGHT
TZOFFSETFROM:+0100
TZOFFSETTO:+0200
TZNAME:CEST
DTSTART:20270328T010000
END:DAYLIGHT
BEGIN:STANDARD
TZOFFSETFROM:+0200
TZOFFSETTO:+0100
TZNAME:CET
DTSTART:20271031T010000
END:STANDARD
END:VTIMEZONE
BEGIN:VEVENT
DTSTART;TZID=Europe/Paris:20260902T100000
DTEND;TZID=Europe/Paris:20260902T140000
DTSTAMP:20260424T022535
CREATED:20260210T201224Z
LAST-MODIFIED:20260210T203109Z
UID:4087-1788343200-1788357600@f8kly.fr
SUMMARY:Permanence
DESCRIPTION:Informations détaillées sur le canal Radio-club F8KLY de l’application Signal.
URL:https://f8kly.fr/event/permanence-306/
LOCATION:Radioclub\, 21Bis Rue Roger Radisson\, Lyon\, 69005\, France
END:VEVENT
BEGIN:VEVENT
DTSTART;TZID=Europe/Paris:20260907T100000
DTEND;TZID=Europe/Paris:20260907T140000
DTSTAMP:20260424T022535
CREATED:20260210T203725Z
LAST-MODIFIED:20260210T203725Z
UID:4281-1788775200-1788789600@f8kly.fr
SUMMARY:Permanence DATV
DESCRIPTION:Informations détaillées sur le canal Radio-club F8KLY de l’application Signal.
URL:https://f8kly.fr/event/permanence-datv-82/
LOCATION:Radioclub\, 21Bis Rue Roger Radisson\, Lyon\, 69005\, France
CATEGORIES:DATV
END:VEVENT
BEGIN:VEVENT
DTSTART;TZID=Europe/Paris:20260909T100000
DTEND;TZID=Europe/Paris:20260909T140000
DTSTAMP:20260424T022535
CREATED:20260210T201238Z
LAST-MODIFIED:20260210T203229Z
UID:4088-1788948000-1788962400@f8kly.fr
SUMMARY:Permanence
DESCRIPTION:Informations détaillées sur le canal Radio-club F8KLY de l’application Signal.
URL:https://f8kly.fr/event/permanence-307/
LOCATION:Radioclub\, 21Bis Rue Roger Radisson\, Lyon\, 69005\, France
END:VEVENT
BEGIN:VEVENT
DTSTART;TZID=Europe/Paris:20260914T100000
DTEND;TZID=Europe/Paris:20260914T140000
DTSTAMP:20260424T022535
CREATED:20260210T203739Z
LAST-MODIFIED:20260210T203739Z
UID:4282-1789380000-1789394400@f8kly.fr
SUMMARY:Permanence DATV
DESCRIPTION:Informations détaillées sur le canal Radio-club F8KLY de l’application Signal.
URL:https://f8kly.fr/event/permanence-datv-83/
LOCATION:Radioclub\, 21Bis Rue Roger Radisson\, Lyon\, 69005\, France
CATEGORIES:DATV
END:VEVENT
BEGIN:VEVENT
DTSTART;TZID=Europe/Paris:20260916T100000
DTEND;TZID=Europe/Paris:20260916T140000
DTSTAMP:20260424T022535
CREATED:20260210T201238Z
LAST-MODIFIED:20260210T203229Z
UID:4089-1789552800-1789567200@f8kly.fr
SUMMARY:Permanence
DESCRIPTION:Informations détaillées sur le canal Radio-club F8KLY de l’application Signal.
URL:https://f8kly.fr/event/permanence-308/
LOCATION:Radioclub\, 21Bis Rue Roger Radisson\, Lyon\, 69005\, France
END:VEVENT
BEGIN:VEVENT
DTSTART;TZID=Europe/Paris:20260921T100000
DTEND;TZID=Europe/Paris:20260921T140000
DTSTAMP:20260424T022535
CREATED:20260210T203739Z
LAST-MODIFIED:20260210T203739Z
UID:4283-1789984800-1789999200@f8kly.fr
SUMMARY:Permanence DATV
DESCRIPTION:Informations détaillées sur le canal Radio-club F8KLY de l’application Signal.
URL:https://f8kly.fr/event/permanence-datv-84/
LOCATION:Radioclub\, 21Bis Rue Roger Radisson\, Lyon\, 69005\, France
CATEGORIES:DATV
END:VEVENT
BEGIN:VEVENT
DTSTART;TZID=Europe/Paris:20260923T100000
DTEND;TZID=Europe/Paris:20260923T140000
DTSTAMP:20260424T022535
CREATED:20260210T201238Z
LAST-MODIFIED:20260210T203229Z
UID:4090-1790157600-1790172000@f8kly.fr
SUMMARY:Permanence
DESCRIPTION:Informations détaillées sur le canal Radio-club F8KLY de l’application Signal.
URL:https://f8kly.fr/event/permanence-309/
LOCATION:Radioclub\, 21Bis Rue Roger Radisson\, Lyon\, 69005\, France
END:VEVENT
BEGIN:VEVENT
DTSTART;TZID=Europe/Paris:20260928T100000
DTEND;TZID=Europe/Paris:20260928T140000
DTSTAMP:20260424T022535
CREATED:20260210T203739Z
LAST-MODIFIED:20260210T203739Z
UID:4284-1790589600-1790604000@f8kly.fr
SUMMARY:Permanence DATV
DESCRIPTION:Informations détaillées sur le canal Radio-club F8KLY de l’application Signal.
URL:https://f8kly.fr/event/permanence-datv-85/
LOCATION:Radioclub\, 21Bis Rue Roger Radisson\, Lyon\, 69005\, France
CATEGORIES:DATV
END:VEVENT
BEGIN:VEVENT
DTSTART;TZID=Europe/Paris:20260930T100000
DTEND;TZID=Europe/Paris:20260930T140000
DTSTAMP:20260424T022535
CREATED:20260210T201238Z
LAST-MODIFIED:20260210T203229Z
UID:4091-1790762400-1790776800@f8kly.fr
SUMMARY:Permanence
DESCRIPTION:Informations détaillées sur le canal Radio-club F8KLY de l’application Signal.
URL:https://f8kly.fr/event/permanence-310/
LOCATION:Radioclub\, 21Bis Rue Roger Radisson\, Lyon\, 69005\, France
END:VEVENT
END:VCALENDAR