BEGIN:VCALENDAR
VERSION:2.0
PRODID:-//Réseau des Émetteurs Français 69 - ECPv6.15.18//NONSGML v1.0//EN
CALSCALE:GREGORIAN
METHOD:PUBLISH
X-ORIGINAL-URL:https://f8kly.fr
X-WR-CALDESC:Évènements pour Réseau des Émetteurs Français 69
REFRESH-INTERVAL;VALUE=DURATION:PT1H
X-Robots-Tag:noindex
X-PUBLISHED-TTL:PT1H
BEGIN:VTIMEZONE
TZID:Europe/Paris
BEGIN:DAYLIGHT
TZOFFSETFROM:+0100
TZOFFSETTO:+0200
TZNAME:CEST
DTSTART:20250330T010000
END:DAYLIGHT
BEGIN:STANDARD
TZOFFSETFROM:+0200
TZOFFSETTO:+0100
TZNAME:CET
DTSTART:20251026T010000
END:STANDARD
BEGIN:DAYLIGHT
TZOFFSETFROM:+0100
TZOFFSETTO:+0200
TZNAME:CEST
DTSTART:20260329T010000
END:DAYLIGHT
BEGIN:STANDARD
TZOFFSETFROM:+0200
TZOFFSETTO:+0100
TZNAME:CET
DTSTART:20261025T010000
END:STANDARD
BEGIN:DAYLIGHT
TZOFFSETFROM:+0100
TZOFFSETTO:+0200
TZNAME:CEST
DTSTART:20270328T010000
END:DAYLIGHT
BEGIN:STANDARD
TZOFFSETFROM:+0200
TZOFFSETTO:+0100
TZNAME:CET
DTSTART:20271031T010000
END:STANDARD
END:VTIMEZONE
BEGIN:VEVENT
DTSTART;TZID=Europe/Paris:20260105T080000
DTEND;TZID=Europe/Paris:20260105T170000
DTSTAMP:20260423T224833
CREATED:20260124T172855Z
LAST-MODIFIED:20260124T172855Z
UID:3798-1767600000-1767632400@f8kly.fr
SUMMARY:Permanence DATV
DESCRIPTION:
URL:https://f8kly.fr/event/permanence-datv/
LOCATION:Radioclub\, 21Bis Rue Roger Radisson\, Lyon\, 69005\, France
CATEGORIES:DATV
END:VEVENT
BEGIN:VEVENT
DTSTART;TZID=Europe/Paris:20260107T083000
DTEND;TZID=Europe/Paris:20260107T180000
DTSTAMP:20260423T224833
CREATED:20260124T174617Z
LAST-MODIFIED:20260124T174617Z
UID:3852-1767774600-1767808800@f8kly.fr
SUMMARY:Permanence
DESCRIPTION:
URL:https://f8kly.fr/event/permanence-225/
LOCATION:Radioclub\, 21Bis Rue Roger Radisson\, Lyon\, 69005\, France
END:VEVENT
BEGIN:VEVENT
DTSTART;TZID=Europe/Paris:20260112T080000
DTEND;TZID=Europe/Paris:20260112T170000
DTSTAMP:20260423T224833
CREATED:20260124T172855Z
LAST-MODIFIED:20260124T172855Z
UID:3799-1768204800-1768237200@f8kly.fr
SUMMARY:Permanence DATV
DESCRIPTION:
URL:https://f8kly.fr/event/permanence-datv-2/
LOCATION:Radioclub\, 21Bis Rue Roger Radisson\, Lyon\, 69005\, France
CATEGORIES:DATV
END:VEVENT
BEGIN:VEVENT
DTSTART;TZID=Europe/Paris:20260114T083000
DTEND;TZID=Europe/Paris:20260114T180000
DTSTAMP:20260423T224833
CREATED:20260124T174617Z
LAST-MODIFIED:20260124T174617Z
UID:3853-1768379400-1768413600@f8kly.fr
SUMMARY:Permanence
DESCRIPTION:
URL:https://f8kly.fr/event/permanence-226/
LOCATION:Radioclub\, 21Bis Rue Roger Radisson\, Lyon\, 69005\, France
END:VEVENT
BEGIN:VEVENT
DTSTART;TZID=Europe/Paris:20260119T080000
DTEND;TZID=Europe/Paris:20260119T170000
DTSTAMP:20260423T224833
CREATED:20260124T172855Z
LAST-MODIFIED:20260124T172855Z
UID:3800-1768809600-1768842000@f8kly.fr
SUMMARY:Permanence DATV
DESCRIPTION:
URL:https://f8kly.fr/event/permanence-datv-3/
LOCATION:Radioclub\, 21Bis Rue Roger Radisson\, Lyon\, 69005\, France
CATEGORIES:DATV
END:VEVENT
BEGIN:VEVENT
DTSTART;TZID=Europe/Paris:20260121T083000
DTEND;TZID=Europe/Paris:20260121T180000
DTSTAMP:20260423T224833
CREATED:20260124T174617Z
LAST-MODIFIED:20260124T174617Z
UID:3854-1768984200-1769018400@f8kly.fr
SUMMARY:Permanence
DESCRIPTION:
URL:https://f8kly.fr/event/permanence-227/
LOCATION:Radioclub\, 21Bis Rue Roger Radisson\, Lyon\, 69005\, France
END:VEVENT
BEGIN:VEVENT
DTSTART;TZID=Europe/Paris:20260126T080000
DTEND;TZID=Europe/Paris:20260126T170000
DTSTAMP:20260423T224833
CREATED:20260124T172856Z
LAST-MODIFIED:20260124T172856Z
UID:3801-1769414400-1769446800@f8kly.fr
SUMMARY:Permanence DATV
DESCRIPTION:
URL:https://f8kly.fr/event/permanence-datv-4/
LOCATION:Radioclub\, 21Bis Rue Roger Radisson\, Lyon\, 69005\, France
CATEGORIES:DATV
END:VEVENT
BEGIN:VEVENT
DTSTART;TZID=Europe/Paris:20260128T083000
DTEND;TZID=Europe/Paris:20260128T180000
DTSTAMP:20260423T224833
CREATED:20260124T174617Z
LAST-MODIFIED:20260124T174617Z
UID:3855-1769589000-1769623200@f8kly.fr
SUMMARY:Permanence
DESCRIPTION:
URL:https://f8kly.fr/event/permanence-228/
LOCATION:Radioclub\, 21Bis Rue Roger Radisson\, Lyon\, 69005\, France
END:VEVENT
END:VCALENDAR