BEGIN:VCALENDAR
VERSION:2.0
PRODID:-//Réseau des Émetteurs Français 69 - ECPv6.15.18//NONSGML v1.0//EN
CALSCALE:GREGORIAN
METHOD:PUBLISH
X-ORIGINAL-URL:https://f8kly.fr
X-WR-CALDESC:Évènements pour Réseau des Émetteurs Français 69
REFRESH-INTERVAL;VALUE=DURATION:PT1H
X-Robots-Tag:noindex
X-PUBLISHED-TTL:PT1H
BEGIN:VTIMEZONE
TZID:Europe/Paris
BEGIN:DAYLIGHT
TZOFFSETFROM:+0100
TZOFFSETTO:+0200
TZNAME:CEST
DTSTART:20250330T010000
END:DAYLIGHT
BEGIN:STANDARD
TZOFFSETFROM:+0200
TZOFFSETTO:+0100
TZNAME:CET
DTSTART:20251026T010000
END:STANDARD
BEGIN:DAYLIGHT
TZOFFSETFROM:+0100
TZOFFSETTO:+0200
TZNAME:CEST
DTSTART:20260329T010000
END:DAYLIGHT
BEGIN:STANDARD
TZOFFSETFROM:+0200
TZOFFSETTO:+0100
TZNAME:CET
DTSTART:20261025T010000
END:STANDARD
BEGIN:DAYLIGHT
TZOFFSETFROM:+0100
TZOFFSETTO:+0200
TZNAME:CEST
DTSTART:20270328T010000
END:DAYLIGHT
BEGIN:STANDARD
TZOFFSETFROM:+0200
TZOFFSETTO:+0100
TZNAME:CET
DTSTART:20271031T010000
END:STANDARD
END:VTIMEZONE
BEGIN:VEVENT
DTSTART;TZID=Europe/Paris:20260427T100000
DTEND;TZID=Europe/Paris:20260427T140000
DTSTAMP:20260424T001426
CREATED:20260210T203501Z
LAST-MODIFIED:20260210T203501Z
UID:4262-1777284000-1777298400@f8kly.fr
SUMMARY:Permanence DATV
DESCRIPTION:Informations détaillées sur le canal Radio-club F8KLY de l’application Signal.
URL:https://f8kly.fr/event/permanence-datv-63/
LOCATION:Radioclub\, 21Bis Rue Roger Radisson\, Lyon\, 69005\, France
CATEGORIES:DATV
END:VEVENT
BEGIN:VEVENT
DTSTART;TZID=Europe/Paris:20260429T100000
DTEND;TZID=Europe/Paris:20260429T140000
DTSTAMP:20260424T001426
CREATED:20260210T200924Z
LAST-MODIFIED:20260210T202752Z
UID:4069-1777456800-1777471200@f8kly.fr
SUMMARY:Permanence
DESCRIPTION:Informations détaillées sur le canal Radio-club F8KLY de l’application Signal.
URL:https://f8kly.fr/event/permanence-288/
LOCATION:Radioclub\, 21Bis Rue Roger Radisson\, Lyon\, 69005\, France
END:VEVENT
BEGIN:VEVENT
DTSTART;TZID=Europe/Paris:20260504T100000
DTEND;TZID=Europe/Paris:20260504T140000
DTSTAMP:20260424T001426
CREATED:20260210T203501Z
LAST-MODIFIED:20260210T203501Z
UID:4263-1777888800-1777903200@f8kly.fr
SUMMARY:Permanence DATV
DESCRIPTION:Informations détaillées sur le canal Radio-club F8KLY de l’application Signal.
URL:https://f8kly.fr/event/permanence-datv-64/
LOCATION:Radioclub\, 21Bis Rue Roger Radisson\, Lyon\, 69005\, France
CATEGORIES:DATV
END:VEVENT
BEGIN:VEVENT
DTSTART;TZID=Europe/Paris:20260506T100000
DTEND;TZID=Europe/Paris:20260506T140000
DTSTAMP:20260424T001426
CREATED:20260210T200924Z
LAST-MODIFIED:20260210T202752Z
UID:4070-1778061600-1778076000@f8kly.fr
SUMMARY:Permanence
DESCRIPTION:Informations détaillées sur le canal Radio-club F8KLY de l’application Signal.
URL:https://f8kly.fr/event/permanence-289/
LOCATION:Radioclub\, 21Bis Rue Roger Radisson\, Lyon\, 69005\, France
END:VEVENT
BEGIN:VEVENT
DTSTART;TZID=Europe/Paris:20260511T100000
DTEND;TZID=Europe/Paris:20260511T140000
DTSTAMP:20260424T001426
CREATED:20260210T203501Z
LAST-MODIFIED:20260210T203501Z
UID:4264-1778493600-1778508000@f8kly.fr
SUMMARY:Permanence DATV
DESCRIPTION:Informations détaillées sur le canal Radio-club F8KLY de l’application Signal.
URL:https://f8kly.fr/event/permanence-datv-65/
LOCATION:Radioclub\, 21Bis Rue Roger Radisson\, Lyon\, 69005\, France
CATEGORIES:DATV
END:VEVENT
BEGIN:VEVENT
DTSTART;TZID=Europe/Paris:20260513T100000
DTEND;TZID=Europe/Paris:20260513T140000
DTSTAMP:20260424T001426
CREATED:20260210T200924Z
LAST-MODIFIED:20260210T202752Z
UID:4071-1778666400-1778680800@f8kly.fr
SUMMARY:Permanence
DESCRIPTION:Informations détaillées sur le canal Radio-club F8KLY de l’application Signal.
URL:https://f8kly.fr/event/permanence-290/
LOCATION:Radioclub\, 21Bis Rue Roger Radisson\, Lyon\, 69005\, France
END:VEVENT
BEGIN:VEVENT
DTSTART;TZID=Europe/Paris:20260518T100000
DTEND;TZID=Europe/Paris:20260518T140000
DTSTAMP:20260424T001426
CREATED:20260210T203501Z
LAST-MODIFIED:20260210T203501Z
UID:4265-1779098400-1779112800@f8kly.fr
SUMMARY:Permanence DATV
DESCRIPTION:Informations détaillées sur le canal Radio-club F8KLY de l’application Signal.
URL:https://f8kly.fr/event/permanence-datv-66/
LOCATION:Radioclub\, 21Bis Rue Roger Radisson\, Lyon\, 69005\, France
CATEGORIES:DATV
END:VEVENT
BEGIN:VEVENT
DTSTART;TZID=Europe/Paris:20260520T100000
DTEND;TZID=Europe/Paris:20260520T140000
DTSTAMP:20260424T001426
CREATED:20260210T200924Z
LAST-MODIFIED:20260210T202752Z
UID:4072-1779271200-1779285600@f8kly.fr
SUMMARY:Permanence
DESCRIPTION:Informations détaillées sur le canal Radio-club F8KLY de l’application Signal.
URL:https://f8kly.fr/event/permanence-291/
LOCATION:Radioclub\, 21Bis Rue Roger Radisson\, Lyon\, 69005\, France
END:VEVENT
BEGIN:VEVENT
DTSTART;TZID=Europe/Paris:20260525T100000
DTEND;TZID=Europe/Paris:20260525T140000
DTSTAMP:20260424T001426
CREATED:20260210T203501Z
LAST-MODIFIED:20260210T203501Z
UID:4266-1779703200-1779717600@f8kly.fr
SUMMARY:Permanence DATV
DESCRIPTION:Informations détaillées sur le canal Radio-club F8KLY de l’application Signal.
URL:https://f8kly.fr/event/permanence-datv-67/
LOCATION:Radioclub\, 21Bis Rue Roger Radisson\, Lyon\, 69005\, France
CATEGORIES:DATV
END:VEVENT
BEGIN:VEVENT
DTSTART;TZID=Europe/Paris:20260527T100000
DTEND;TZID=Europe/Paris:20260527T140000
DTSTAMP:20260424T001426
CREATED:20260210T201125Z
LAST-MODIFIED:20260210T202850Z
UID:4073-1779876000-1779890400@f8kly.fr
SUMMARY:Permanence
DESCRIPTION:Informations détaillées sur le canal Radio-club F8KLY de l’application Signal.
URL:https://f8kly.fr/event/permanence-292/
LOCATION:Radioclub\, 21Bis Rue Roger Radisson\, Lyon\, 69005\, France
END:VEVENT
BEGIN:VEVENT
DTSTART;TZID=Europe/Paris:20260601T100000
DTEND;TZID=Europe/Paris:20260601T140000
DTSTAMP:20260424T001426
CREATED:20260210T203615Z
LAST-MODIFIED:20260210T203615Z
UID:4267-1780308000-1780322400@f8kly.fr
SUMMARY:Permanence DATV
DESCRIPTION:Informations détaillées sur le canal Radio-club F8KLY de l’application Signal.
URL:https://f8kly.fr/event/permanence-datv-68/
LOCATION:Radioclub\, 21Bis Rue Roger Radisson\, Lyon\, 69005\, France
CATEGORIES:DATV
END:VEVENT
BEGIN:VEVENT
DTSTART;TZID=Europe/Paris:20260603T100000
DTEND;TZID=Europe/Paris:20260603T140000
DTSTAMP:20260424T001426
CREATED:20260210T201125Z
LAST-MODIFIED:20260210T202850Z
UID:4074-1780480800-1780495200@f8kly.fr
SUMMARY:Permanence
DESCRIPTION:Informations détaillées sur le canal Radio-club F8KLY de l’application Signal.
URL:https://f8kly.fr/event/permanence-293/
LOCATION:Radioclub\, 21Bis Rue Roger Radisson\, Lyon\, 69005\, France
END:VEVENT
BEGIN:VEVENT
DTSTART;TZID=Europe/Paris:20260608T100000
DTEND;TZID=Europe/Paris:20260608T140000
DTSTAMP:20260424T001426
CREATED:20260210T203615Z
LAST-MODIFIED:20260210T203615Z
UID:4268-1780912800-1780927200@f8kly.fr
SUMMARY:Permanence DATV
DESCRIPTION:Informations détaillées sur le canal Radio-club F8KLY de l’application Signal.
URL:https://f8kly.fr/event/permanence-datv-69/
LOCATION:Radioclub\, 21Bis Rue Roger Radisson\, Lyon\, 69005\, France
CATEGORIES:DATV
END:VEVENT
BEGIN:VEVENT
DTSTART;TZID=Europe/Paris:20260610T100000
DTEND;TZID=Europe/Paris:20260610T140000
DTSTAMP:20260424T001426
CREATED:20260210T201125Z
LAST-MODIFIED:20260210T202851Z
UID:4075-1781085600-1781100000@f8kly.fr
SUMMARY:Permanence
DESCRIPTION:Informations détaillées sur le canal Radio-club F8KLY de l’application Signal.
URL:https://f8kly.fr/event/permanence-294/
LOCATION:Radioclub\, 21Bis Rue Roger Radisson\, Lyon\, 69005\, France
END:VEVENT
BEGIN:VEVENT
DTSTART;TZID=Europe/Paris:20260615T100000
DTEND;TZID=Europe/Paris:20260615T140000
DTSTAMP:20260424T001426
CREATED:20260210T203615Z
LAST-MODIFIED:20260210T203615Z
UID:4269-1781517600-1781532000@f8kly.fr
SUMMARY:Permanence DATV
DESCRIPTION:Informations détaillées sur le canal Radio-club F8KLY de l’application Signal.
URL:https://f8kly.fr/event/permanence-datv-70/
LOCATION:Radioclub\, 21Bis Rue Roger Radisson\, Lyon\, 69005\, France
CATEGORIES:DATV
END:VEVENT
BEGIN:VEVENT
DTSTART;TZID=Europe/Paris:20260617T100000
DTEND;TZID=Europe/Paris:20260617T140000
DTSTAMP:20260424T001426
CREATED:20260210T201126Z
LAST-MODIFIED:20260210T202851Z
UID:4076-1781690400-1781704800@f8kly.fr
SUMMARY:Permanence
DESCRIPTION:Informations détaillées sur le canal Radio-club F8KLY de l’application Signal.
URL:https://f8kly.fr/event/permanence-295/
LOCATION:Radioclub\, 21Bis Rue Roger Radisson\, Lyon\, 69005\, France
END:VEVENT
BEGIN:VEVENT
DTSTART;TZID=Europe/Paris:20260622T100000
DTEND;TZID=Europe/Paris:20260622T140000
DTSTAMP:20260424T001426
CREATED:20260210T203615Z
LAST-MODIFIED:20260210T203615Z
UID:4270-1782122400-1782136800@f8kly.fr
SUMMARY:Permanence DATV
DESCRIPTION:Informations détaillées sur le canal Radio-club F8KLY de l’application Signal.
URL:https://f8kly.fr/event/permanence-datv-71/
LOCATION:Radioclub\, 21Bis Rue Roger Radisson\, Lyon\, 69005\, France
CATEGORIES:DATV
END:VEVENT
BEGIN:VEVENT
DTSTART;TZID=Europe/Paris:20260624T100000
DTEND;TZID=Europe/Paris:20260624T140000
DTSTAMP:20260424T001426
CREATED:20260210T201126Z
LAST-MODIFIED:20260210T202851Z
UID:4077-1782295200-1782309600@f8kly.fr
SUMMARY:Permanence
DESCRIPTION:Informations détaillées sur le canal Radio-club F8KLY de l’application Signal.
URL:https://f8kly.fr/event/permanence-296/
LOCATION:Radioclub\, 21Bis Rue Roger Radisson\, Lyon\, 69005\, France
END:VEVENT
BEGIN:VEVENT
DTSTART;TZID=Europe/Paris:20260629T100000
DTEND;TZID=Europe/Paris:20260629T140000
DTSTAMP:20260424T001426
CREATED:20260210T203615Z
LAST-MODIFIED:20260210T203615Z
UID:4271-1782727200-1782741600@f8kly.fr
SUMMARY:Permanence DATV
DESCRIPTION:Informations détaillées sur le canal Radio-club F8KLY de l’application Signal.
URL:https://f8kly.fr/event/permanence-datv-72/
LOCATION:Radioclub\, 21Bis Rue Roger Radisson\, Lyon\, 69005\, France
CATEGORIES:DATV
END:VEVENT
BEGIN:VEVENT
DTSTART;TZID=Europe/Paris:20260701T100000
DTEND;TZID=Europe/Paris:20260701T140000
DTSTAMP:20260424T001426
CREATED:20260210T201209Z
LAST-MODIFIED:20260210T202907Z
UID:4078-1782900000-1782914400@f8kly.fr
SUMMARY:Permanence
DESCRIPTION:Informations détaillées sur le canal Radio-club F8KLY de l’application Signal.
URL:https://f8kly.fr/event/permanence-297/
LOCATION:Radioclub\, 21Bis Rue Roger Radisson\, Lyon\, 69005\, France
END:VEVENT
BEGIN:VEVENT
DTSTART;TZID=Europe/Paris:20260706T100000
DTEND;TZID=Europe/Paris:20260706T140000
DTSTAMP:20260424T001426
CREATED:20260210T203629Z
LAST-MODIFIED:20260210T203629Z
UID:4272-1783332000-1783346400@f8kly.fr
SUMMARY:Permanence DATV
DESCRIPTION:Informations détaillées sur le canal Radio-club F8KLY de l’application Signal.
URL:https://f8kly.fr/event/permanence-datv-73/
LOCATION:Radioclub\, 21Bis Rue Roger Radisson\, Lyon\, 69005\, France
CATEGORIES:DATV
END:VEVENT
BEGIN:VEVENT
DTSTART;TZID=Europe/Paris:20260708T100000
DTEND;TZID=Europe/Paris:20260708T140000
DTSTAMP:20260424T001426
CREATED:20260210T201209Z
LAST-MODIFIED:20260210T202907Z
UID:4079-1783504800-1783519200@f8kly.fr
SUMMARY:Permanence
DESCRIPTION:Informations détaillées sur le canal Radio-club F8KLY de l’application Signal.
URL:https://f8kly.fr/event/permanence-298/
LOCATION:Radioclub\, 21Bis Rue Roger Radisson\, Lyon\, 69005\, France
END:VEVENT
BEGIN:VEVENT
DTSTART;TZID=Europe/Paris:20260713T100000
DTEND;TZID=Europe/Paris:20260713T140000
DTSTAMP:20260424T001426
CREATED:20260210T203629Z
LAST-MODIFIED:20260210T203629Z
UID:4273-1783936800-1783951200@f8kly.fr
SUMMARY:Permanence DATV
DESCRIPTION:Informations détaillées sur le canal Radio-club F8KLY de l’application Signal.
URL:https://f8kly.fr/event/permanence-datv-74/
LOCATION:Radioclub\, 21Bis Rue Roger Radisson\, Lyon\, 69005\, France
CATEGORIES:DATV
END:VEVENT
BEGIN:VEVENT
DTSTART;TZID=Europe/Paris:20260715T100000
DTEND;TZID=Europe/Paris:20260715T140000
DTSTAMP:20260424T001426
CREATED:20260210T201209Z
LAST-MODIFIED:20260210T202907Z
UID:4080-1784109600-1784124000@f8kly.fr
SUMMARY:Permanence
DESCRIPTION:Informations détaillées sur le canal Radio-club F8KLY de l’application Signal.
URL:https://f8kly.fr/event/permanence-299/
LOCATION:Radioclub\, 21Bis Rue Roger Radisson\, Lyon\, 69005\, France
END:VEVENT
BEGIN:VEVENT
DTSTART;TZID=Europe/Paris:20260720T100000
DTEND;TZID=Europe/Paris:20260720T140000
DTSTAMP:20260424T001426
CREATED:20260210T203629Z
LAST-MODIFIED:20260210T203629Z
UID:4274-1784541600-1784556000@f8kly.fr
SUMMARY:Permanence DATV
DESCRIPTION:Informations détaillées sur le canal Radio-club F8KLY de l’application Signal.
URL:https://f8kly.fr/event/permanence-datv-75/
LOCATION:Radioclub\, 21Bis Rue Roger Radisson\, Lyon\, 69005\, France
CATEGORIES:DATV
END:VEVENT
BEGIN:VEVENT
DTSTART;TZID=Europe/Paris:20260722T100000
DTEND;TZID=Europe/Paris:20260722T140000
DTSTAMP:20260424T001426
CREATED:20260210T201209Z
LAST-MODIFIED:20260210T202907Z
UID:4081-1784714400-1784728800@f8kly.fr
SUMMARY:Permanence
DESCRIPTION:Informations détaillées sur le canal Radio-club F8KLY de l’application Signal.
URL:https://f8kly.fr/event/permanence-300/
LOCATION:Radioclub\, 21Bis Rue Roger Radisson\, Lyon\, 69005\, France
END:VEVENT
BEGIN:VEVENT
DTSTART;TZID=Europe/Paris:20260727T100000
DTEND;TZID=Europe/Paris:20260727T140000
DTSTAMP:20260424T001426
CREATED:20260210T203629Z
LAST-MODIFIED:20260210T203629Z
UID:4275-1785146400-1785160800@f8kly.fr
SUMMARY:Permanence DATV
DESCRIPTION:Informations détaillées sur le canal Radio-club F8KLY de l’application Signal.
URL:https://f8kly.fr/event/permanence-datv-76/
LOCATION:Radioclub\, 21Bis Rue Roger Radisson\, Lyon\, 69005\, France
CATEGORIES:DATV
END:VEVENT
BEGIN:VEVENT
DTSTART;TZID=Europe/Paris:20260729T100000
DTEND;TZID=Europe/Paris:20260729T140000
DTSTAMP:20260424T001426
CREATED:20260210T201210Z
LAST-MODIFIED:20260210T202907Z
UID:4082-1785319200-1785333600@f8kly.fr
SUMMARY:Permanence
DESCRIPTION:Informations détaillées sur le canal Radio-club F8KLY de l’application Signal.
URL:https://f8kly.fr/event/permanence-301/
LOCATION:Radioclub\, 21Bis Rue Roger Radisson\, Lyon\, 69005\, France
END:VEVENT
BEGIN:VEVENT
DTSTART;TZID=Europe/Paris:20260803T100000
DTEND;TZID=Europe/Paris:20260803T140000
DTSTAMP:20260424T001426
CREATED:20260210T203629Z
LAST-MODIFIED:20260210T203629Z
UID:4276-1785751200-1785765600@f8kly.fr
SUMMARY:Permanence DATV
DESCRIPTION:Informations détaillées sur le canal Radio-club F8KLY de l’application Signal.
URL:https://f8kly.fr/event/permanence-datv-77/
LOCATION:Radioclub\, 21Bis Rue Roger Radisson\, Lyon\, 69005\, France
CATEGORIES:DATV
END:VEVENT
BEGIN:VEVENT
DTSTART;TZID=Europe/Paris:20260805T100000
DTEND;TZID=Europe/Paris:20260805T140000
DTSTAMP:20260424T001426
CREATED:20260210T201223Z
LAST-MODIFIED:20260210T203108Z
UID:4083-1785924000-1785938400@f8kly.fr
SUMMARY:Permanence
DESCRIPTION:Informations détaillées sur le canal Radio-club F8KLY de l’application Signal.
URL:https://f8kly.fr/event/permanence-302/
LOCATION:Radioclub\, 21Bis Rue Roger Radisson\, Lyon\, 69005\, France
END:VEVENT
END:VCALENDAR