BEGIN:VCALENDAR
VERSION:2.0
PRODID:-//Réseau des Émetteurs Français 69 - ECPv6.15.18//NONSGML v1.0//EN
CALSCALE:GREGORIAN
METHOD:PUBLISH
X-ORIGINAL-URL:https://f8kly.fr
X-WR-CALDESC:Évènements pour Réseau des Émetteurs Français 69
REFRESH-INTERVAL;VALUE=DURATION:PT1H
X-Robots-Tag:noindex
X-PUBLISHED-TTL:PT1H
BEGIN:VTIMEZONE
TZID:Europe/Paris
BEGIN:DAYLIGHT
TZOFFSETFROM:+0100
TZOFFSETTO:+0200
TZNAME:CEST
DTSTART:20250330T010000
END:DAYLIGHT
BEGIN:STANDARD
TZOFFSETFROM:+0200
TZOFFSETTO:+0100
TZNAME:CET
DTSTART:20251026T010000
END:STANDARD
BEGIN:DAYLIGHT
TZOFFSETFROM:+0100
TZOFFSETTO:+0200
TZNAME:CEST
DTSTART:20260329T010000
END:DAYLIGHT
BEGIN:STANDARD
TZOFFSETFROM:+0200
TZOFFSETTO:+0100
TZNAME:CET
DTSTART:20261025T010000
END:STANDARD
BEGIN:DAYLIGHT
TZOFFSETFROM:+0100
TZOFFSETTO:+0200
TZNAME:CEST
DTSTART:20270328T010000
END:DAYLIGHT
BEGIN:STANDARD
TZOFFSETFROM:+0200
TZOFFSETTO:+0100
TZNAME:CET
DTSTART:20271031T010000
END:STANDARD
END:VTIMEZONE
BEGIN:VEVENT
DTSTART;TZID=Europe/Paris:20260422T100000
DTEND;TZID=Europe/Paris:20260422T140000
DTSTAMP:20260424T020856
CREATED:20260210T200924Z
LAST-MODIFIED:20260210T202752Z
UID:4068-1776852000-1776866400@f8kly.fr
SUMMARY:Permanence
DESCRIPTION:Informations détaillées sur le canal Radio-club F8KLY de l’application Signal.
URL:https://f8kly.fr/event/permanence-287/
LOCATION:Radioclub\, 21Bis Rue Roger Radisson\, Lyon\, 69005\, France
END:VEVENT
BEGIN:VEVENT
DTSTART;TZID=Europe/Paris:20260420T100000
DTEND;TZID=Europe/Paris:20260420T140000
DTSTAMP:20260424T020856
CREATED:20260210T203445Z
LAST-MODIFIED:20260210T203445Z
UID:4261-1776679200-1776693600@f8kly.fr
SUMMARY:Permanence DATV
DESCRIPTION:Informations détaillées sur le canal Radio-club F8KLY de l’application Signal.
URL:https://f8kly.fr/event/permanence-datv-62/
LOCATION:Radioclub\, 21Bis Rue Roger Radisson\, Lyon\, 69005\, France
CATEGORIES:DATV
END:VEVENT
BEGIN:VEVENT
DTSTART;TZID=Europe/Paris:20260415T100000
DTEND;TZID=Europe/Paris:20260415T140000
DTSTAMP:20260424T020856
CREATED:20260210T200907Z
LAST-MODIFIED:20260210T202736Z
UID:4067-1776247200-1776261600@f8kly.fr
SUMMARY:Permanence
DESCRIPTION:Informations détaillées sur le canal Radio-club F8KLY de l’application Signal.
URL:https://f8kly.fr/event/permanence-286/
LOCATION:Radioclub\, 21Bis Rue Roger Radisson\, Lyon\, 69005\, France
END:VEVENT
BEGIN:VEVENT
DTSTART;TZID=Europe/Paris:20260413T100000
DTEND;TZID=Europe/Paris:20260413T140000
DTSTAMP:20260424T020856
CREATED:20260210T203445Z
LAST-MODIFIED:20260210T203445Z
UID:4260-1776074400-1776088800@f8kly.fr
SUMMARY:Permanence DATV
DESCRIPTION:Informations détaillées sur le canal Radio-club F8KLY de l’application Signal.
URL:https://f8kly.fr/event/permanence-datv-61/
LOCATION:Radioclub\, 21Bis Rue Roger Radisson\, Lyon\, 69005\, France
CATEGORIES:DATV
END:VEVENT
BEGIN:VEVENT
DTSTART;TZID=Europe/Paris:20260408T100000
DTEND;TZID=Europe/Paris:20260408T140000
DTSTAMP:20260424T020856
CREATED:20260210T200907Z
LAST-MODIFIED:20260210T202736Z
UID:4066-1775642400-1775656800@f8kly.fr
SUMMARY:Permanence
DESCRIPTION:Informations détaillées sur le canal Radio-club F8KLY de l’application Signal.
URL:https://f8kly.fr/event/permanence-285/
LOCATION:Radioclub\, 21Bis Rue Roger Radisson\, Lyon\, 69005\, France
END:VEVENT
BEGIN:VEVENT
DTSTART;TZID=Europe/Paris:20260406T100000
DTEND;TZID=Europe/Paris:20260406T140000
DTSTAMP:20260424T020856
CREATED:20260210T203445Z
LAST-MODIFIED:20260210T203445Z
UID:4259-1775469600-1775484000@f8kly.fr
SUMMARY:Permanence DATV
DESCRIPTION:Informations détaillées sur le canal Radio-club F8KLY de l’application Signal.
URL:https://f8kly.fr/event/permanence-datv-60/
LOCATION:Radioclub\, 21Bis Rue Roger Radisson\, Lyon\, 69005\, France
CATEGORIES:DATV
END:VEVENT
BEGIN:VEVENT
DTSTART;TZID=Europe/Paris:20260401T100000
DTEND;TZID=Europe/Paris:20260401T140000
DTSTAMP:20260424T020856
CREATED:20260210T200907Z
LAST-MODIFIED:20260210T202736Z
UID:4065-1775037600-1775052000@f8kly.fr
SUMMARY:Permanence
DESCRIPTION:Informations détaillées sur le canal Radio-club F8KLY de l’application Signal.
URL:https://f8kly.fr/event/permanence-284/
LOCATION:Radioclub\, 21Bis Rue Roger Radisson\, Lyon\, 69005\, France
END:VEVENT
BEGIN:VEVENT
DTSTART;TZID=Europe/Paris:20260330T100000
DTEND;TZID=Europe/Paris:20260330T140000
DTSTAMP:20260424T020856
CREATED:20260210T203445Z
LAST-MODIFIED:20260210T203445Z
UID:4258-1774864800-1774879200@f8kly.fr
SUMMARY:Permanence DATV
DESCRIPTION:Informations détaillées sur le canal Radio-club F8KLY de l’application Signal.
URL:https://f8kly.fr/event/permanence-datv-59/
LOCATION:Radioclub\, 21Bis Rue Roger Radisson\, Lyon\, 69005\, France
CATEGORIES:DATV
END:VEVENT
BEGIN:VEVENT
DTSTART;TZID=Europe/Paris:20260325T100000
DTEND;TZID=Europe/Paris:20260325T140000
DTSTAMP:20260424T020856
CREATED:20260210T200906Z
LAST-MODIFIED:20260210T202736Z
UID:4064-1774432800-1774447200@f8kly.fr
SUMMARY:Permanence
DESCRIPTION:Informations détaillées sur le canal Radio-club F8KLY de l’application Signal.
URL:https://f8kly.fr/event/permanence-283/
LOCATION:Radioclub\, 21Bis Rue Roger Radisson\, Lyon\, 69005\, France
END:VEVENT
BEGIN:VEVENT
DTSTART;TZID=Europe/Paris:20260323T100000
DTEND;TZID=Europe/Paris:20260323T140000
DTSTAMP:20260424T020856
CREATED:20260210T203445Z
LAST-MODIFIED:20260210T203445Z
UID:4257-1774260000-1774274400@f8kly.fr
SUMMARY:Permanence DATV
DESCRIPTION:Informations détaillées sur le canal Radio-club F8KLY de l’application Signal.
URL:https://f8kly.fr/event/permanence-datv-58/
LOCATION:Radioclub\, 21Bis Rue Roger Radisson\, Lyon\, 69005\, France
CATEGORIES:DATV
END:VEVENT
BEGIN:VEVENT
DTSTART;TZID=Europe/Paris:20260318T100000
DTEND;TZID=Europe/Paris:20260318T140000
DTSTAMP:20260424T020856
CREATED:20260210T200906Z
LAST-MODIFIED:20260210T202736Z
UID:4063-1773828000-1773842400@f8kly.fr
SUMMARY:Permanence
DESCRIPTION:Informations détaillées sur le canal Radio-club F8KLY de l’application Signal.
URL:https://f8kly.fr/event/permanence-282/
LOCATION:Radioclub\, 21Bis Rue Roger Radisson\, Lyon\, 69005\, France
END:VEVENT
BEGIN:VEVENT
DTSTART;TZID=Europe/Paris:20260316T100000
DTEND;TZID=Europe/Paris:20260316T140000
DTSTAMP:20260424T020856
CREATED:20260210T203443Z
LAST-MODIFIED:20260210T203443Z
UID:4256-1773655200-1773669600@f8kly.fr
SUMMARY:Permanence DATV
DESCRIPTION:Informations détaillées sur le canal Radio-club F8KLY de l’application Signal.
URL:https://f8kly.fr/event/permanence-datv-57/
LOCATION:Radioclub\, 21Bis Rue Roger Radisson\, Lyon\, 69005\, France
CATEGORIES:DATV
END:VEVENT
BEGIN:VEVENT
DTSTART;TZID=Europe/Paris:20260311T100000
DTEND;TZID=Europe/Paris:20260311T140000
DTSTAMP:20260424T020856
CREATED:20260210T200904Z
LAST-MODIFIED:20260210T202734Z
UID:4062-1773223200-1773237600@f8kly.fr
SUMMARY:Permanence
DESCRIPTION:Informations détaillées sur le canal Radio-club F8KLY de l’application Signal.
URL:https://f8kly.fr/event/permanence-281/
LOCATION:Radioclub\, 21Bis Rue Roger Radisson\, Lyon\, 69005\, France
END:VEVENT
BEGIN:VEVENT
DTSTART;TZID=Europe/Paris:20260309T100000
DTEND;TZID=Europe/Paris:20260309T140000
DTSTAMP:20260424T020856
CREATED:20260210T203442Z
LAST-MODIFIED:20260210T203442Z
UID:4255-1773050400-1773064800@f8kly.fr
SUMMARY:Permanence DATV
DESCRIPTION:Informations détaillées sur le canal Radio-club F8KLY de l’application Signal.
URL:https://f8kly.fr/event/permanence-datv-56/
LOCATION:Radioclub\, 21Bis Rue Roger Radisson\, Lyon\, 69005\, France
CATEGORIES:DATV
END:VEVENT
BEGIN:VEVENT
DTSTART;TZID=Europe/Paris:20260307T143000
DTEND;TZID=Europe/Paris:20260307T170000
DTSTAMP:20260424T020856
CREATED:20260218T191633Z
LAST-MODIFIED:20260218T191633Z
UID:4313-1772893800-1772902800@f8kly.fr
SUMMARY:Permanence
DESCRIPTION:Présentation de la chasse au renard :  \n\nthéorie\natténuateur + antenne\n\nInformations détaillées sur le canal Radio-club F8KLY de l’application Signal.
URL:https://f8kly.fr/event/permanence-324/
LOCATION:Radioclub\, 21Bis Rue Roger Radisson\, Lyon\, 69005\, France
END:VEVENT
BEGIN:VEVENT
DTSTART;TZID=Europe/Paris:20260304T100000
DTEND;TZID=Europe/Paris:20260304T140000
DTSTAMP:20260424T020856
CREATED:20260210T200904Z
LAST-MODIFIED:20260210T202734Z
UID:4061-1772618400-1772632800@f8kly.fr
SUMMARY:Permanence
DESCRIPTION:Informations détaillées sur le canal Radio-club F8KLY de l’application Signal.
URL:https://f8kly.fr/event/permanence-280/
LOCATION:Radioclub\, 21Bis Rue Roger Radisson\, Lyon\, 69005\, France
END:VEVENT
BEGIN:VEVENT
DTSTART;TZID=Europe/Paris:20260302T100000
DTEND;TZID=Europe/Paris:20260302T140000
DTSTAMP:20260424T020856
CREATED:20260210T203442Z
LAST-MODIFIED:20260210T203442Z
UID:4254-1772445600-1772460000@f8kly.fr
SUMMARY:Permanence DATV
DESCRIPTION:Informations détaillées sur le canal Radio-club F8KLY de l’application Signal.
URL:https://f8kly.fr/event/permanence-datv-55/
LOCATION:Radioclub\, 21Bis Rue Roger Radisson\, Lyon\, 69005\, France
CATEGORIES:DATV
END:VEVENT
BEGIN:VEVENT
DTSTART;TZID=Europe/Paris:20260227T183000
DTEND;TZID=Europe/Paris:20260227T193000
DTSTAMP:20260424T020856
CREATED:20260218T192008Z
LAST-MODIFIED:20260218T192008Z
UID:4316-1772217000-1772220600@f8kly.fr
SUMMARY:QSO de famille
DESCRIPTION:
URL:https://f8kly.fr/event/qso-de-famille-9/
END:VEVENT
BEGIN:VEVENT
DTSTART;TZID=Europe/Paris:20260225T100000
DTEND;TZID=Europe/Paris:20260225T140000
DTSTAMP:20260424T020856
CREATED:20260210T200903Z
LAST-MODIFIED:20260210T202734Z
UID:4060-1772013600-1772028000@f8kly.fr
SUMMARY:Permanence
DESCRIPTION:Informations détaillées sur le canal Radio-club F8KLY de l’application Signal.
URL:https://f8kly.fr/event/permanence-279/
LOCATION:Radioclub\, 21Bis Rue Roger Radisson\, Lyon\, 69005\, France
END:VEVENT
BEGIN:VEVENT
DTSTART;TZID=Europe/Paris:20260223T100000
DTEND;TZID=Europe/Paris:20260223T140000
DTSTAMP:20260424T020856
CREATED:20260210T203442Z
LAST-MODIFIED:20260210T203442Z
UID:4253-1771840800-1771855200@f8kly.fr
SUMMARY:Permanence DATV
DESCRIPTION:Informations détaillées sur le canal Radio-club F8KLY de l’application Signal.
URL:https://f8kly.fr/event/permanence-datv-54/
LOCATION:Radioclub\, 21Bis Rue Roger Radisson\, Lyon\, 69005\, France
CATEGORIES:DATV
END:VEVENT
BEGIN:VEVENT
DTSTART;TZID=Europe/Paris:20260218T100000
DTEND;TZID=Europe/Paris:20260218T140000
DTSTAMP:20260424T020856
CREATED:20260210T200903Z
LAST-MODIFIED:20260210T202734Z
UID:4059-1771408800-1771423200@f8kly.fr
SUMMARY:Permanence
DESCRIPTION:Informations détaillées sur le canal Radio-club F8KLY de l’application Signal.
URL:https://f8kly.fr/event/permanence-278/
LOCATION:Radioclub\, 21Bis Rue Roger Radisson\, Lyon\, 69005\, France
END:VEVENT
BEGIN:VEVENT
DTSTART;TZID=Europe/Paris:20260216T100000
DTEND;TZID=Europe/Paris:20260216T140000
DTSTAMP:20260424T020856
CREATED:20260210T203442Z
LAST-MODIFIED:20260210T203442Z
UID:4252-1771236000-1771250400@f8kly.fr
SUMMARY:Permanence DATV
DESCRIPTION:Informations détaillées sur le canal Radio-club F8KLY de l’application Signal.
URL:https://f8kly.fr/event/permanence-datv-53/
LOCATION:Radioclub\, 21Bis Rue Roger Radisson\, Lyon\, 69005\, France
CATEGORIES:DATV
END:VEVENT
BEGIN:VEVENT
DTSTART;TZID=Europe/Paris:20260211T100000
DTEND;TZID=Europe/Paris:20260211T140000
DTSTAMP:20260424T020856
CREATED:20260210T200903Z
LAST-MODIFIED:20260210T202734Z
UID:4058-1770804000-1770818400@f8kly.fr
SUMMARY:Permanence
DESCRIPTION:Informations détaillées sur le canal Radio-club F8KLY de l’application Signal.
URL:https://f8kly.fr/event/permanence-277/
LOCATION:Radioclub\, 21Bis Rue Roger Radisson\, Lyon\, 69005\, France
END:VEVENT
BEGIN:VEVENT
DTSTART;TZID=Europe/Paris:20260209T080000
DTEND;TZID=Europe/Paris:20260209T170000
DTSTAMP:20260424T020856
CREATED:20260124T172858Z
LAST-MODIFIED:20260124T172858Z
UID:3803-1770624000-1770656400@f8kly.fr
SUMMARY:Permanence DATV
DESCRIPTION:
URL:https://f8kly.fr/event/permanence-datv-6/
LOCATION:Radioclub\, 21Bis Rue Roger Radisson\, Lyon\, 69005\, France
CATEGORIES:DATV
END:VEVENT
BEGIN:VEVENT
DTSTART;TZID=Europe/Paris:20260204T083000
DTEND;TZID=Europe/Paris:20260204T180000
DTSTAMP:20260424T020856
CREATED:20260124T174617Z
LAST-MODIFIED:20260124T174617Z
UID:3856-1770193800-1770228000@f8kly.fr
SUMMARY:Permanence
DESCRIPTION:
URL:https://f8kly.fr/event/permanence-229/
LOCATION:Radioclub\, 21Bis Rue Roger Radisson\, Lyon\, 69005\, France
END:VEVENT
BEGIN:VEVENT
DTSTART;TZID=Europe/Paris:20260202T080000
DTEND;TZID=Europe/Paris:20260202T170000
DTSTAMP:20260424T020856
CREATED:20260124T172856Z
LAST-MODIFIED:20260124T172856Z
UID:3802-1770019200-1770051600@f8kly.fr
SUMMARY:Permanence DATV
DESCRIPTION:
URL:https://f8kly.fr/event/permanence-datv-5/
LOCATION:Radioclub\, 21Bis Rue Roger Radisson\, Lyon\, 69005\, France
CATEGORIES:DATV
END:VEVENT
BEGIN:VEVENT
DTSTART;TZID=Europe/Paris:20260128T083000
DTEND;TZID=Europe/Paris:20260128T180000
DTSTAMP:20260424T020856
CREATED:20260124T174617Z
LAST-MODIFIED:20260124T174617Z
UID:3855-1769589000-1769623200@f8kly.fr
SUMMARY:Permanence
DESCRIPTION:
URL:https://f8kly.fr/event/permanence-228/
LOCATION:Radioclub\, 21Bis Rue Roger Radisson\, Lyon\, 69005\, France
END:VEVENT
BEGIN:VEVENT
DTSTART;TZID=Europe/Paris:20260126T080000
DTEND;TZID=Europe/Paris:20260126T170000
DTSTAMP:20260424T020856
CREATED:20260124T172856Z
LAST-MODIFIED:20260124T172856Z
UID:3801-1769414400-1769446800@f8kly.fr
SUMMARY:Permanence DATV
DESCRIPTION:
URL:https://f8kly.fr/event/permanence-datv-4/
LOCATION:Radioclub\, 21Bis Rue Roger Radisson\, Lyon\, 69005\, France
CATEGORIES:DATV
END:VEVENT
BEGIN:VEVENT
DTSTART;TZID=Europe/Paris:20260121T083000
DTEND;TZID=Europe/Paris:20260121T180000
DTSTAMP:20260424T020856
CREATED:20260124T174617Z
LAST-MODIFIED:20260124T174617Z
UID:3854-1768984200-1769018400@f8kly.fr
SUMMARY:Permanence
DESCRIPTION:
URL:https://f8kly.fr/event/permanence-227/
LOCATION:Radioclub\, 21Bis Rue Roger Radisson\, Lyon\, 69005\, France
END:VEVENT
BEGIN:VEVENT
DTSTART;TZID=Europe/Paris:20260119T080000
DTEND;TZID=Europe/Paris:20260119T170000
DTSTAMP:20260424T020856
CREATED:20260124T172855Z
LAST-MODIFIED:20260124T172855Z
UID:3800-1768809600-1768842000@f8kly.fr
SUMMARY:Permanence DATV
DESCRIPTION:
URL:https://f8kly.fr/event/permanence-datv-3/
LOCATION:Radioclub\, 21Bis Rue Roger Radisson\, Lyon\, 69005\, France
CATEGORIES:DATV
END:VEVENT
END:VCALENDAR