BEGIN:VCALENDAR
VERSION:2.0
PRODID:-//Réseau des Émetteurs Français 69 - ECPv6.15.18//NONSGML v1.0//EN
CALSCALE:GREGORIAN
METHOD:PUBLISH
X-ORIGINAL-URL:https://f8kly.fr
X-WR-CALDESC:Évènements pour Réseau des Émetteurs Français 69
REFRESH-INTERVAL;VALUE=DURATION:PT1H
X-Robots-Tag:noindex
X-PUBLISHED-TTL:PT1H
BEGIN:VTIMEZONE
TZID:Europe/Paris
BEGIN:DAYLIGHT
TZOFFSETFROM:+0100
TZOFFSETTO:+0200
TZNAME:CEST
DTSTART:20250330T010000
END:DAYLIGHT
BEGIN:STANDARD
TZOFFSETFROM:+0200
TZOFFSETTO:+0100
TZNAME:CET
DTSTART:20251026T010000
END:STANDARD
BEGIN:DAYLIGHT
TZOFFSETFROM:+0100
TZOFFSETTO:+0200
TZNAME:CEST
DTSTART:20260329T010000
END:DAYLIGHT
BEGIN:STANDARD
TZOFFSETFROM:+0200
TZOFFSETTO:+0100
TZNAME:CET
DTSTART:20261025T010000
END:STANDARD
BEGIN:DAYLIGHT
TZOFFSETFROM:+0100
TZOFFSETTO:+0200
TZNAME:CEST
DTSTART:20270328T010000
END:DAYLIGHT
BEGIN:STANDARD
TZOFFSETFROM:+0200
TZOFFSETTO:+0100
TZNAME:CET
DTSTART:20271031T010000
END:STANDARD
END:VTIMEZONE
BEGIN:VEVENT
DTSTART;TZID=Europe/Paris:20261102T100000
DTEND;TZID=Europe/Paris:20261102T140000
DTSTAMP:20260424T154753
CREATED:20260210T203754Z
LAST-MODIFIED:20260210T203754Z
UID:4289-1793613600-1793628000@f8kly.fr
SUMMARY:Permanence DATV
DESCRIPTION:Informations détaillées sur le canal Radio-club F8KLY de l’application Signal.
URL:https://f8kly.fr/event/permanence-datv-90/
LOCATION:Radioclub\, 21Bis Rue Roger Radisson\, Lyon\, 69005\, France
CATEGORIES:DATV
END:VEVENT
BEGIN:VEVENT
DTSTART;TZID=Europe/Paris:20261109T100000
DTEND;TZID=Europe/Paris:20261109T140000
DTSTAMP:20260424T154753
CREATED:20260210T203755Z
LAST-MODIFIED:20260210T203755Z
UID:4290-1794218400-1794232800@f8kly.fr
SUMMARY:Permanence DATV
DESCRIPTION:Informations détaillées sur le canal Radio-club F8KLY de l’application Signal.
URL:https://f8kly.fr/event/permanence-datv-91/
LOCATION:Radioclub\, 21Bis Rue Roger Radisson\, Lyon\, 69005\, France
CATEGORIES:DATV
END:VEVENT
BEGIN:VEVENT
DTSTART;TZID=Europe/Paris:20261116T100000
DTEND;TZID=Europe/Paris:20261116T140000
DTSTAMP:20260424T154753
CREATED:20260210T203755Z
LAST-MODIFIED:20260210T203755Z
UID:4291-1794823200-1794837600@f8kly.fr
SUMMARY:Permanence DATV
DESCRIPTION:Informations détaillées sur le canal Radio-club F8KLY de l’application Signal.
URL:https://f8kly.fr/event/permanence-datv-92/
LOCATION:Radioclub\, 21Bis Rue Roger Radisson\, Lyon\, 69005\, France
CATEGORIES:DATV
END:VEVENT
BEGIN:VEVENT
DTSTART;TZID=Europe/Paris:20261123T100000
DTEND;TZID=Europe/Paris:20261123T140000
DTSTAMP:20260424T154753
CREATED:20260210T203809Z
LAST-MODIFIED:20260210T203809Z
UID:4292-1795428000-1795442400@f8kly.fr
SUMMARY:Permanence DATV
DESCRIPTION:Informations détaillées sur le canal Radio-club F8KLY de l’application Signal.
URL:https://f8kly.fr/event/permanence-datv-93/
LOCATION:Radioclub\, 21Bis Rue Roger Radisson\, Lyon\, 69005\, France
CATEGORIES:DATV
END:VEVENT
BEGIN:VEVENT
DTSTART;TZID=Europe/Paris:20261130T100000
DTEND;TZID=Europe/Paris:20261130T140000
DTSTAMP:20260424T154753
CREATED:20260210T203809Z
LAST-MODIFIED:20260210T203809Z
UID:4293-1796032800-1796047200@f8kly.fr
SUMMARY:Permanence DATV
DESCRIPTION:Informations détaillées sur le canal Radio-club F8KLY de l’application Signal.
URL:https://f8kly.fr/event/permanence-datv-94/
LOCATION:Radioclub\, 21Bis Rue Roger Radisson\, Lyon\, 69005\, France
CATEGORIES:DATV
END:VEVENT
END:VCALENDAR