BEGIN:VCALENDAR
VERSION:2.0
PRODID:-//Réseau des Émetteurs Français 69 - ECPv6.15.18//NONSGML v1.0//EN
CALSCALE:GREGORIAN
METHOD:PUBLISH
X-WR-CALNAME:Réseau des Émetteurs Français 69
X-ORIGINAL-URL:https://f8kly.fr
X-WR-CALDESC:Évènements pour Réseau des Émetteurs Français 69
REFRESH-INTERVAL;VALUE=DURATION:PT1H
X-Robots-Tag:noindex
X-PUBLISHED-TTL:PT1H
BEGIN:VTIMEZONE
TZID:Europe/Paris
BEGIN:DAYLIGHT
TZOFFSETFROM:+0100
TZOFFSETTO:+0200
TZNAME:CEST
DTSTART:20250330T010000
END:DAYLIGHT
BEGIN:STANDARD
TZOFFSETFROM:+0200
TZOFFSETTO:+0100
TZNAME:CET
DTSTART:20251026T010000
END:STANDARD
BEGIN:DAYLIGHT
TZOFFSETFROM:+0100
TZOFFSETTO:+0200
TZNAME:CEST
DTSTART:20260329T010000
END:DAYLIGHT
BEGIN:STANDARD
TZOFFSETFROM:+0200
TZOFFSETTO:+0100
TZNAME:CET
DTSTART:20261025T010000
END:STANDARD
BEGIN:DAYLIGHT
TZOFFSETFROM:+0100
TZOFFSETTO:+0200
TZNAME:CEST
DTSTART:20270328T010000
END:DAYLIGHT
BEGIN:STANDARD
TZOFFSETFROM:+0200
TZOFFSETTO:+0100
TZNAME:CET
DTSTART:20271031T010000
END:STANDARD
END:VTIMEZONE
BEGIN:VEVENT
DTSTART;TZID=Europe/Paris:20260812T100000
DTEND;TZID=Europe/Paris:20260812T140000
DTSTAMP:20260424T022441
CREATED:20260210T201223Z
LAST-MODIFIED:20260210T203108Z
UID:4084-1786528800-1786543200@f8kly.fr
SUMMARY:Permanence
DESCRIPTION:Informations détaillées sur le canal Radio-club F8KLY de l’application Signal.
URL:https://f8kly.fr/event/permanence-303/
LOCATION:Radioclub\, 21Bis Rue Roger Radisson\, Lyon\, 69005\, France
END:VEVENT
END:VCALENDAR